BEGIN:VCALENDAR
VERSION:2.0
PRODID:-// - ECPv6.15.20//NONSGML v1.0//EN
CALSCALE:GREGORIAN
METHOD:PUBLISH
X-ORIGINAL-URL:https://www.tandemkonyvesbolt.hu
X-WR-CALDESC:Események 
REFRESH-INTERVAL;VALUE=DURATION:PT1H
X-Robots-Tag:noindex
X-PUBLISHED-TTL:PT1H
BEGIN:VTIMEZONE
TZID:Europe/Budapest
BEGIN:DAYLIGHT
TZOFFSETFROM:+0100
TZOFFSETTO:+0200
TZNAME:CEST
DTSTART:20240331T010000
END:DAYLIGHT
BEGIN:STANDARD
TZOFFSETFROM:+0200
TZOFFSETTO:+0100
TZNAME:CET
DTSTART:20241027T010000
END:STANDARD
BEGIN:DAYLIGHT
TZOFFSETFROM:+0100
TZOFFSETTO:+0200
TZNAME:CEST
DTSTART:20250330T010000
END:DAYLIGHT
BEGIN:STANDARD
TZOFFSETFROM:+0200
TZOFFSETTO:+0100
TZNAME:CET
DTSTART:20251026T010000
END:STANDARD
BEGIN:DAYLIGHT
TZOFFSETFROM:+0100
TZOFFSETTO:+0200
TZNAME:CEST
DTSTART:20260329T010000
END:DAYLIGHT
BEGIN:STANDARD
TZOFFSETFROM:+0200
TZOFFSETTO:+0100
TZNAME:CET
DTSTART:20261025T010000
END:STANDARD
END:VTIMEZONE
BEGIN:VEVENT
DTSTART;TZID=Europe/Budapest:20251121T210000
DTEND;TZID=Europe/Budapest:20251122T000000
DTSTAMP:20260426T012142
CREATED:20251110T193342Z
LAST-MODIFIED:20251110T195844Z
UID:389-1763758800-1763769600@www.tandemkonyvesbolt.hu
SUMMARY:Nagykovácsi Mozi
DESCRIPTION:Nagykovácsi Mozi a Tandemben!\n \n\n\n\n\nA következő Mozi Estéken egy megtörtént eseményeken alapuló történet kerül vászonra — egy férfiról\, aki a hittel és a hatalommal is szembeszállt.\n \n\n\nAgnieszka Holland lenyűgöző életrajzi drámája Jan Mikolášek\, a híres cseh gyógyító különös életét mutatja be – egy embert\, akit egyszerre imádtak és üldöztek. \n \n\n\nZseni vagy szélhámos? A választ mindenkinek magának kell megadnia.\n \n\n\nTalálkozzunk a vászon előtt november 21-én!
URL:https://www.tandemkonyvesbolt.hu/esemenyek/nagykovacsi-mozi/
LOCATION:Tandem könyvesbolt és kávézó\, Nagykovácsi\, 2094 Nagykovácsi
ATTACH;FMTTYPE=image/jpeg:https://www.tandemkonyvesbolt.hu/wp-content/uploads/2025/11/576999542_122264507198231615_5458462342736364143_n.jpg
END:VEVENT
END:VCALENDAR