BEGIN:VCALENDAR
VERSION:2.0
PRODID:-// - ECPv6.15.20//NONSGML v1.0//EN
CALSCALE:GREGORIAN
METHOD:PUBLISH
X-ORIGINAL-URL:https://www.tandemkonyvesbolt.hu
X-WR-CALDESC:Események 
REFRESH-INTERVAL;VALUE=DURATION:PT1H
X-Robots-Tag:noindex
X-PUBLISHED-TTL:PT1H
BEGIN:VTIMEZONE
TZID:Europe/Budapest
BEGIN:DAYLIGHT
TZOFFSETFROM:+0100
TZOFFSETTO:+0200
TZNAME:CEST
DTSTART:20240331T010000
END:DAYLIGHT
BEGIN:STANDARD
TZOFFSETFROM:+0200
TZOFFSETTO:+0100
TZNAME:CET
DTSTART:20241027T010000
END:STANDARD
BEGIN:DAYLIGHT
TZOFFSETFROM:+0100
TZOFFSETTO:+0200
TZNAME:CEST
DTSTART:20250330T010000
END:DAYLIGHT
BEGIN:STANDARD
TZOFFSETFROM:+0200
TZOFFSETTO:+0100
TZNAME:CET
DTSTART:20251026T010000
END:STANDARD
BEGIN:DAYLIGHT
TZOFFSETFROM:+0100
TZOFFSETTO:+0200
TZNAME:CEST
DTSTART:20260329T010000
END:DAYLIGHT
BEGIN:STANDARD
TZOFFSETFROM:+0200
TZOFFSETTO:+0100
TZNAME:CET
DTSTART:20261025T010000
END:STANDARD
END:VTIMEZONE
BEGIN:VEVENT
DTSTART;TZID=Europe/Budapest:20251130T150000
DTEND;TZID=Europe/Budapest:20251130T163000
DTSTAMP:20260426T012318
CREATED:20251117T152648Z
LAST-MODIFIED:20251117T152726Z
UID:513-1764514800-1764520200@www.tandemkonyvesbolt.hu
SUMMARY:4 alkalmas felnőtt író-olvasó klub az adventi hangolódás jegyében
DESCRIPTION:4 alkalmas felnőtt író-olvasó klub – Adventi hangolódás ✨📖\nHangolódj az ünnepekre irodalmi történetekkel\, kreatív írás gyakorlatokkal\, beszélgetésekkel\, önismereti és művészetterápiás eszközökkel. Öltöztesd fénybe a lelked az adventi időszakban\, egy megtartó közösségben\, egy inspiráló varázsbirodalomban! 🌟✍️ \nHelyszín: Tandem könyvesbolt és kávézó \nIdőpont: minden adventi vasárnap 14:00–15:30-ig \nAlkalmak: november 30.\, december 7.\, december 14.\, december 21. \nRészvételi díj: 25 000 Ft / 4 alkalom \nCsoportlétszám: 6–10 fő \nFoglalás és kérdések: szaidram@gmail.com | +36 20 770 3992 \nFoglalkozást tartja: Khaled-Abdo Szaida\n– színházi alkotó\, kreatív írás tanár\, komplex művészeti terapeuta jelölt \n 
URL:https://www.tandemkonyvesbolt.hu/esemenyek/4-alkalmas-felnott-iro-olvaso-klub-az-adventi-hangolodas-jegyeben/
LOCATION:Tandem könyvesbolt és kávézó\, Nagykovácsi\, 2094 Nagykovácsi
ATTACH;FMTTYPE=image/png:https://www.tandemkonyvesbolt.hu/wp-content/uploads/2025/11/Tandem-felnott.png
END:VEVENT
BEGIN:VEVENT
DTSTART;TZID=Europe/Budapest:20251130T170000
DTEND;TZID=Europe/Budapest:20251130T183000
DTSTAMP:20260426T012318
CREATED:20251117T152401Z
LAST-MODIFIED:20251117T152435Z
UID:510-1764522000-1764527400@www.tandemkonyvesbolt.hu
SUMMARY:Adventi meseklub gyerekeknek
DESCRIPTION:Adventi meseklub gyerekeknek 🎄⛄️❄️🎅🏻🎁📚 \n❄️ Szereted a meséket?\n❄️ Szereted az irodalmat?\n❄️ Szeretsz alkotni?\n❄️ Szeretsz beszélgetni?\n❄️ Szeretnél együtt hangolódni az ünnepekre? \nAkkor sok szeretettel várunk minden adventi vasárnap 14:00–15:30-ig a Tandem könyvesbolt és kávézóban\, ahol mesékkel és kreatív ajándék készítő workshopokkal várjuk a kicsiket! ✨ \nAjánlott életkor: 4 éves kortól \nRészvételi díj: 3000 Ft/alkalom (+ fogyasztás a Tandemben\, hogy támogassuk őket a helyszín biztosításáért és a programok szervezéséért) \nAlkalmak: november 30.\, december 7.\, december 14.\, december 21. \nA foglalkozások nem egymásra épülnek\, így egy alkalomra is csatlakozhattok! \nA foglalkozást tartja: Khaled-Abdo Szaida – színházi alkotó\, kreatív írás tanár\, komplex művészeti terapeuta jelölt \nJelentkezés és kérdések: szaidram@gmail.com\n| +36 20 770 3992
URL:https://www.tandemkonyvesbolt.hu/esemenyek/adventi-meseklub-gyerekeknek/
LOCATION:Tandem könyvesbolt és kávézó\, Nagykovácsi\, 2094 Nagykovácsi
ATTACH;FMTTYPE=image/png:https://www.tandemkonyvesbolt.hu/wp-content/uploads/2025/11/Tandem-adventi-meseklub-borito.png
END:VEVENT
END:VCALENDAR