BEGIN:VCALENDAR
VERSION:2.0
PRODID:-// - ECPv6.15.20//NONSGML v1.0//EN
CALSCALE:GREGORIAN
METHOD:PUBLISH
X-ORIGINAL-URL:https://www.tandemkonyvesbolt.hu
X-WR-CALDESC:Események 
REFRESH-INTERVAL;VALUE=DURATION:PT1H
X-Robots-Tag:noindex
X-PUBLISHED-TTL:PT1H
BEGIN:VTIMEZONE
TZID:Europe/Budapest
BEGIN:DAYLIGHT
TZOFFSETFROM:+0100
TZOFFSETTO:+0200
TZNAME:CEST
DTSTART:20240331T010000
END:DAYLIGHT
BEGIN:STANDARD
TZOFFSETFROM:+0200
TZOFFSETTO:+0100
TZNAME:CET
DTSTART:20241027T010000
END:STANDARD
BEGIN:DAYLIGHT
TZOFFSETFROM:+0100
TZOFFSETTO:+0200
TZNAME:CEST
DTSTART:20250330T010000
END:DAYLIGHT
BEGIN:STANDARD
TZOFFSETFROM:+0200
TZOFFSETTO:+0100
TZNAME:CET
DTSTART:20251026T010000
END:STANDARD
BEGIN:DAYLIGHT
TZOFFSETFROM:+0100
TZOFFSETTO:+0200
TZNAME:CEST
DTSTART:20260329T010000
END:DAYLIGHT
BEGIN:STANDARD
TZOFFSETFROM:+0200
TZOFFSETTO:+0100
TZNAME:CET
DTSTART:20261025T010000
END:STANDARD
END:VTIMEZONE
BEGIN:VEVENT
DTSTART;TZID=Europe/Budapest:20251213T200000
DTEND;TZID=Europe/Budapest:20251213T230000
DTSTAMP:20260425T235223
CREATED:20251117T152106Z
LAST-MODIFIED:20251213T144336Z
UID:507-1765656000-1765666800@www.tandemkonyvesbolt.hu
SUMMARY:Zene és szöveg – zongora és novellák párban\, játékban
DESCRIPTION:Apa és fia – Légrádi Gergely és Marcell 🎶📚 \nZenével és irodalommal készülnek a karácsonyra\, mesélve szeretetről\, az idő múlásáról\, az érintés erejéről\, a családi kötelékekről\, elutazásról és hazatérésről. \nAz este során saját szerzeményeik szőnek egymásba hangulatokat\, figyelnek és reagálnak egymásra\, mindezt humorral és játékossággal fűszerezve. \nAz esemény után kötetlen beszélgetés\, dedikálás és egy kis kortyolgatás vár rátok. ✨
URL:https://www.tandemkonyvesbolt.hu/esemenyek/zene-es-szoveg-zongora-es-novellak-parban-jatekban/
ATTACH;FMTTYPE=image/jpeg:https://www.tandemkonyvesbolt.hu/wp-content/uploads/2025/11/580214048_1409569111172411_5799314405980580286_n.jpg
END:VEVENT
END:VCALENDAR