BEGIN:VCALENDAR
VERSION:2.0
PRODID:-// - ECPv6.15.20//NONSGML v1.0//EN
CALSCALE:GREGORIAN
METHOD:PUBLISH
X-ORIGINAL-URL:https://www.tandemkonyvesbolt.hu
X-WR-CALDESC:Események 
REFRESH-INTERVAL;VALUE=DURATION:PT1H
X-Robots-Tag:noindex
X-PUBLISHED-TTL:PT1H
BEGIN:VTIMEZONE
TZID:Europe/Budapest
BEGIN:DAYLIGHT
TZOFFSETFROM:+0100
TZOFFSETTO:+0200
TZNAME:CEST
DTSTART:20240331T010000
END:DAYLIGHT
BEGIN:STANDARD
TZOFFSETFROM:+0200
TZOFFSETTO:+0100
TZNAME:CET
DTSTART:20241027T010000
END:STANDARD
BEGIN:DAYLIGHT
TZOFFSETFROM:+0100
TZOFFSETTO:+0200
TZNAME:CEST
DTSTART:20250330T010000
END:DAYLIGHT
BEGIN:STANDARD
TZOFFSETFROM:+0200
TZOFFSETTO:+0100
TZNAME:CET
DTSTART:20251026T010000
END:STANDARD
BEGIN:DAYLIGHT
TZOFFSETFROM:+0100
TZOFFSETTO:+0200
TZNAME:CEST
DTSTART:20260329T010000
END:DAYLIGHT
BEGIN:STANDARD
TZOFFSETFROM:+0200
TZOFFSETTO:+0100
TZNAME:CET
DTSTART:20261025T010000
END:STANDARD
END:VTIMEZONE
BEGIN:VEVENT
DTSTART;TZID=Europe/Budapest:20251219T210000
DTEND;TZID=Europe/Budapest:20251219T230000
DTSTAMP:20260425T235223
CREATED:20251216T180915Z
LAST-MODIFIED:20251216T180915Z
UID:558-1766178000-1766185200@www.tandemkonyvesbolt.hu
SUMMARY:Mozi esték- Vilma és a férfiak
DESCRIPTION:Vilma és a férfiak – fekete humor\, melegség és karácsonyi csoda egy norvég kisvárosbólVilma\, a harmincas zongoratanárnő csendes\, magányos életet él: kerüli a közösségi médiát\, túl sokat aggódik\, és a karácsony közeledtével leginkább a halál gondolata nyomasztja.Aztán egy nap két különös idegen áll az ajtaja előtt – egy pap és egy patológus. Mindketten ugyanazt a hírt hozzák: meghalt Vilma apja. Csakhogy Vilma eddig semmit sem tudott róla… A bejelentés pedig teljesen felforgatja az addig szigorúan rendezett világát.Onnantól kezdve két (plusz egy) férfi kerül az életébe\, akikkel muszáj foglalkoznia – és ez akarva-akaratlanul is kizökkenti eddigi\, óvatos magányából.A Vilma és a férfiak egy szerethető norvég fekete komédia: meghitt\, humoros\, és pont annyira szívmelengető\, amennyire egy karácsonyi feelgood filmnek lennie kell. Egy történet magányról\, összetartozásról\, veszteségről és arról\, hogy néha épp akkor talál ránk valami jó\, amikor a legkevésbé számítunk rá. Emlékeztet arra\, hogy remény mindig van – még akkor is\, amikor minden másnak tűnik.
URL:https://www.tandemkonyvesbolt.hu/esemenyek/mozi-estek-vilma-es-a-ferfiak/
LOCATION:Tandem könyvesbolt és kávézó\, Nagykovácsi\, 2094 Nagykovácsi
ATTACH;FMTTYPE=image/webp:https://www.tandemkonyvesbolt.hu/wp-content/uploads/2025/12/plakat_Vilma.jpg.webp
END:VEVENT
END:VCALENDAR