BEGIN:VCALENDAR
VERSION:2.0
PRODID:-// - ECPv6.15.20//NONSGML v1.0//EN
CALSCALE:GREGORIAN
METHOD:PUBLISH
X-ORIGINAL-URL:https://www.tandemkonyvesbolt.hu
X-WR-CALDESC:Események 
REFRESH-INTERVAL;VALUE=DURATION:PT1H
X-Robots-Tag:noindex
X-PUBLISHED-TTL:PT1H
BEGIN:VTIMEZONE
TZID:Europe/Budapest
BEGIN:DAYLIGHT
TZOFFSETFROM:+0100
TZOFFSETTO:+0200
TZNAME:CEST
DTSTART:20240331T010000
END:DAYLIGHT
BEGIN:STANDARD
TZOFFSETFROM:+0200
TZOFFSETTO:+0100
TZNAME:CET
DTSTART:20241027T010000
END:STANDARD
BEGIN:DAYLIGHT
TZOFFSETFROM:+0100
TZOFFSETTO:+0200
TZNAME:CEST
DTSTART:20250330T010000
END:DAYLIGHT
BEGIN:STANDARD
TZOFFSETFROM:+0200
TZOFFSETTO:+0100
TZNAME:CET
DTSTART:20251026T010000
END:STANDARD
BEGIN:DAYLIGHT
TZOFFSETFROM:+0100
TZOFFSETTO:+0200
TZNAME:CEST
DTSTART:20260329T010000
END:DAYLIGHT
BEGIN:STANDARD
TZOFFSETFROM:+0200
TZOFFSETTO:+0100
TZNAME:CET
DTSTART:20261025T010000
END:STANDARD
END:VTIMEZONE
BEGIN:VEVENT
DTSTART;TZID=Europe/Budapest:20251220T160000
DTEND;TZID=Europe/Budapest:20251220T180000
DTSTAMP:20260425T235221
CREATED:20251216T181230Z
LAST-MODIFIED:20251216T181230Z
UID:561-1766246400-1766253600@www.tandemkonyvesbolt.hu
SUMMARY:Mozi matiné-Macskafogó
DESCRIPTION:A Macskafogó – kultikus magyar animáció\, amely ma is ugyanolyan zseniális\, mint gyerekkorunkban.\nGrabowski\, a legendás 007-es egérügynök újra akcióba lép! Küldetése egyszerű… lenne: Pokyóból el kell hoznia egy szuperfegyver titkos tervét\, amely megmentheti az egérvilágot a mindenre elszánt\, gonosz macskaszindikátustól.\nA jól ismert történet tele van izgalommal\, humorral és olyan paródiákkal\, amelyekkel a film egyben kifordítja\, megidézi és szeretettel meg is fricskázza a klasszikus akciófilmek világát.\nA Macskafogó nemcsak a magyar rajzfilmgyártás egyik csúcsa\, hanem az egyetemes animációban is úttörő műfajkeverésével: akcióvígjáték\, kémfilm-paródia\, sci-fi és noir egyetlen elképesztően kreatív mesében. Nem csoda\, hogy bemutatása óta kultikus rajongás övezi itthon és külföldön is.\n Ha újranéznéd\, vagy épp most ismerkedsz vele\, garantáltan elkap az a különleges\, bizsergető hangulat\, amit csak a Macskafogó tud – mert vannak filmek\, amik egyszerűen örök kedvencek maradnak.
URL:https://www.tandemkonyvesbolt.hu/esemenyek/mozi-matine-macskafogo/
LOCATION:Tandem könyvesbolt és kávézó\, Nagykovácsi\, 2094 Nagykovácsi
ATTACH;FMTTYPE=image/png:https://www.tandemkonyvesbolt.hu/wp-content/uploads/2025/12/Macskafogo_filmplakat.png
END:VEVENT
END:VCALENDAR