BEGIN:VCALENDAR
VERSION:2.0
PRODID:-// - ECPv6.15.20//NONSGML v1.0//EN
CALSCALE:GREGORIAN
METHOD:PUBLISH
X-ORIGINAL-URL:https://www.tandemkonyvesbolt.hu
X-WR-CALDESC:Események 
REFRESH-INTERVAL;VALUE=DURATION:PT1H
X-Robots-Tag:noindex
X-PUBLISHED-TTL:PT1H
BEGIN:VTIMEZONE
TZID:Europe/Budapest
BEGIN:DAYLIGHT
TZOFFSETFROM:+0100
TZOFFSETTO:+0200
TZNAME:CEST
DTSTART:20240331T010000
END:DAYLIGHT
BEGIN:STANDARD
TZOFFSETFROM:+0200
TZOFFSETTO:+0100
TZNAME:CET
DTSTART:20241027T010000
END:STANDARD
BEGIN:DAYLIGHT
TZOFFSETFROM:+0100
TZOFFSETTO:+0200
TZNAME:CEST
DTSTART:20250330T010000
END:DAYLIGHT
BEGIN:STANDARD
TZOFFSETFROM:+0200
TZOFFSETTO:+0100
TZNAME:CET
DTSTART:20251026T010000
END:STANDARD
BEGIN:DAYLIGHT
TZOFFSETFROM:+0100
TZOFFSETTO:+0200
TZNAME:CEST
DTSTART:20260329T010000
END:DAYLIGHT
BEGIN:STANDARD
TZOFFSETFROM:+0200
TZOFFSETTO:+0100
TZNAME:CET
DTSTART:20261025T010000
END:STANDARD
END:VTIMEZONE
BEGIN:VEVENT
DTSTART;TZID=Europe/Budapest:20251222T180000
DTEND;TZID=Europe/Budapest:20251222T190000
DTSTAMP:20260425T235223
CREATED:20251216T183315Z
LAST-MODIFIED:20251216T185008Z
UID:569-1766426400-1766430000@www.tandemkonyvesbolt.hu
SUMMARY:Mesés Adventi hangolódás Mesélő Ágival – felnőtteknek!
DESCRIPTION:Advent utolsó napjaiban különleges\, elmélyülős alkalomra várunk a Tandembe.\nMesélő Ági érkezik idén is hozzánk\, és felnőtteknek szóló mesés estje lehetőséget ad arra\, hogy a rohanás és készülődés helyett megpihenj\, és a mesék segítségével belső utazásra indulj – közelebb az ünnephez\, önmagadhoz\, a belső karácsonyodhoz.\n\nRészletek\, bővebb információk hamarosan! \nhttps://docs.google.com/forms/d/e/1FAIpQLSd359u_rS9j9FwcS9GzBdlg0YW3y4vDYccfA3VqDlMpKOc9wg/viewform
URL:https://www.tandemkonyvesbolt.hu/esemenyek/meses-adventi-hangolodas-meselo-agival-felnotteknek/
LOCATION:Tandem könyvesbolt és kávézó\, Nagykovácsi\, 2094 Nagykovácsi
ATTACH;FMTTYPE=image/png:https://www.tandemkonyvesbolt.hu/wp-content/uploads/2025/12/Kepernyofoto-2025-12-16-20.30.58.png
END:VEVENT
END:VCALENDAR