BEGIN:VCALENDAR
VERSION:2.0
PRODID:-// - ECPv6.15.20//NONSGML v1.0//EN
CALSCALE:GREGORIAN
METHOD:PUBLISH
X-ORIGINAL-URL:https://www.tandemkonyvesbolt.hu
X-WR-CALDESC:Események 
REFRESH-INTERVAL;VALUE=DURATION:PT1H
X-Robots-Tag:noindex
X-PUBLISHED-TTL:PT1H
BEGIN:VTIMEZONE
TZID:Europe/Budapest
BEGIN:DAYLIGHT
TZOFFSETFROM:+0100
TZOFFSETTO:+0200
TZNAME:CEST
DTSTART:20250330T010000
END:DAYLIGHT
BEGIN:STANDARD
TZOFFSETFROM:+0200
TZOFFSETTO:+0100
TZNAME:CET
DTSTART:20251026T010000
END:STANDARD
BEGIN:DAYLIGHT
TZOFFSETFROM:+0100
TZOFFSETTO:+0200
TZNAME:CEST
DTSTART:20260329T010000
END:DAYLIGHT
BEGIN:STANDARD
TZOFFSETFROM:+0200
TZOFFSETTO:+0100
TZNAME:CET
DTSTART:20261025T010000
END:STANDARD
BEGIN:DAYLIGHT
TZOFFSETFROM:+0100
TZOFFSETTO:+0200
TZNAME:CEST
DTSTART:20270328T010000
END:DAYLIGHT
BEGIN:STANDARD
TZOFFSETFROM:+0200
TZOFFSETTO:+0100
TZNAME:CET
DTSTART:20271031T010000
END:STANDARD
END:VTIMEZONE
BEGIN:VEVENT
DTSTART;TZID=Europe/Budapest:20260213T200000
DTEND;TZID=Europe/Budapest:20260213T213000
DTSTAMP:20260425T205653
CREATED:20260211T182644Z
LAST-MODIFIED:20260211T191342Z
UID:753-1771012800-1771018200@www.tandemkonyvesbolt.hu
SUMMARY:A változás valutája
DESCRIPTION:Pénz van. Idő nincs. A szabályok épp változnak.\nA berlini fal leomlott\, a világ kifordult a sarkaiból – és egy furfangos keletnémet csapat épp ekkor bukkan rá egy föld alatti bunkerben rejtőző vagyonra. Egyetlen probléma van csak: a pénz hamarosan semmit sem ér.\nMaren\, Robert\, Volker és Käte versenyt futnak az idővel\, az ellenfelekkel és a történelemmel\, miközben megpróbálnak a lehető legtöbbet kihozni a káoszból. Szomszédok\, trükkök\, improvizáció – és egy nagy ugrás a kapitalizmusba\, stílusosan.\n Egy szellemes\, izgalmas és nosztalgikus történet arról\, mit kezdünk azzal\, amikor egyik napról a másikra minden megváltozik.
URL:https://www.tandemkonyvesbolt.hu/esemenyek/a-valtozas-valutaja/
LOCATION:Tandem könyvesbolt és kávézó\, Nagykovácsi\, 2094 Nagykovácsi
ATTACH;FMTTYPE=image/png:https://www.tandemkonyvesbolt.hu/wp-content/uploads/2026/02/Kepernyofoto-2026-02-11-19.25.54.png
END:VEVENT
END:VCALENDAR