BEGIN:VCALENDAR
VERSION:2.0
PRODID:-// - ECPv6.15.20//NONSGML v1.0//EN
CALSCALE:GREGORIAN
METHOD:PUBLISH
X-ORIGINAL-URL:https://www.tandemkonyvesbolt.hu
X-WR-CALDESC:Események 
REFRESH-INTERVAL;VALUE=DURATION:PT1H
X-Robots-Tag:noindex
X-PUBLISHED-TTL:PT1H
BEGIN:VTIMEZONE
TZID:Europe/Budapest
BEGIN:DAYLIGHT
TZOFFSETFROM:+0100
TZOFFSETTO:+0200
TZNAME:CEST
DTSTART:20250330T010000
END:DAYLIGHT
BEGIN:STANDARD
TZOFFSETFROM:+0200
TZOFFSETTO:+0100
TZNAME:CET
DTSTART:20251026T010000
END:STANDARD
BEGIN:DAYLIGHT
TZOFFSETFROM:+0100
TZOFFSETTO:+0200
TZNAME:CEST
DTSTART:20260329T010000
END:DAYLIGHT
BEGIN:STANDARD
TZOFFSETFROM:+0200
TZOFFSETTO:+0100
TZNAME:CET
DTSTART:20261025T010000
END:STANDARD
BEGIN:DAYLIGHT
TZOFFSETFROM:+0100
TZOFFSETTO:+0200
TZNAME:CEST
DTSTART:20270328T010000
END:DAYLIGHT
BEGIN:STANDARD
TZOFFSETFROM:+0200
TZOFFSETTO:+0100
TZNAME:CET
DTSTART:20271031T010000
END:STANDARD
END:VTIMEZONE
BEGIN:VEVENT
DTSTART;TZID=Europe/Budapest:20260429T183000
DTEND;TZID=Europe/Budapest:20260429T200000
DTSTAMP:20260425T173724
CREATED:20260422T145553Z
LAST-MODIFIED:20260422T145553Z
UID:934-1777487400-1777492800@www.tandemkonyvesbolt.hu
SUMMARY:Mesés feltöltődés felnőtteknek Mesélő Ágival
DESCRIPTION: Mesélő Ági újra elvarázsol – Egy különleges este mesékkel felnőtteknek a Tandemben! \n\nHa egy igazán feltöltő\, meghitt estére vágysz\, akkor csütörtök este mindenképp gyere el hozzánk a Tandembe!  Mesélő Ági\, akit sokan ismerünk és szeretünk\, ismét a felnőtteknek mesél – és ha már voltál nála\, tudod\, hogy ez több mint egy egyszerű történet: ez egy igazi varázslat.  Ági mesél\, kérdez\, elgondolkodtat\, megnevettet – és újra bebizonyítja\, hogy a mese nem csak a gyerekeké! \n\nEz az este tökéletes alkalom arra\, hogy kiszakadj a mindennapokból.  Jöhetsz egyedül\, ha szeretnél egy kis nyugalmat\, vagy hozhatod a barátaidat\, párodat – egy biztos: jó társaság\, meghitt hangulat és egy felejthetetlen élmény vár rád. \nAz eseménynek 5000 Ft az ajánlott belépődíja\, te döntöd el\, mennyivel szeretnéd támogatni Ági munkáját és idejét. Regisztrálni viszont kérjük mindenki regisztráljon az alábbi linken\, hogy lássuk hány emberre készüljünk:\n\nRegisztrációs link: https://form.typeform.com/to/bLmziaND\n\nNe hagyd ki – gyere\, és engedd\, hogy egy estére újra elvarázsoljon a mese! 
URL:https://www.tandemkonyvesbolt.hu/esemenyek/meses-feltoltodes-felnotteknek-meselo-agival/
LOCATION:Tandem könyvesbolt és kávézó\, Nagykovácsi\, 2094 Nagykovácsi
CATEGORIES:esemény
ATTACH;FMTTYPE=image/jpeg:https://www.tandemkonyvesbolt.hu/wp-content/uploads/2026/04/669044072_1535822068547114_5476800875274203646_n.jpg
END:VEVENT
END:VCALENDAR