BEGIN:VCALENDAR
VERSION:2.0
PRODID:-// - ECPv6.15.20//NONSGML v1.0//EN
CALSCALE:GREGORIAN
METHOD:PUBLISH
X-ORIGINAL-URL:https://www.tandemkonyvesbolt.hu
X-WR-CALDESC:Események 
REFRESH-INTERVAL;VALUE=DURATION:PT1H
X-Robots-Tag:noindex
X-PUBLISHED-TTL:PT1H
BEGIN:VTIMEZONE
TZID:Europe/Budapest
BEGIN:DAYLIGHT
TZOFFSETFROM:+0100
TZOFFSETTO:+0200
TZNAME:CEST
DTSTART:20250330T010000
END:DAYLIGHT
BEGIN:STANDARD
TZOFFSETFROM:+0200
TZOFFSETTO:+0100
TZNAME:CET
DTSTART:20251026T010000
END:STANDARD
BEGIN:DAYLIGHT
TZOFFSETFROM:+0100
TZOFFSETTO:+0200
TZNAME:CEST
DTSTART:20260329T010000
END:DAYLIGHT
BEGIN:STANDARD
TZOFFSETFROM:+0200
TZOFFSETTO:+0100
TZNAME:CET
DTSTART:20261025T010000
END:STANDARD
BEGIN:DAYLIGHT
TZOFFSETFROM:+0100
TZOFFSETTO:+0200
TZNAME:CEST
DTSTART:20270328T010000
END:DAYLIGHT
BEGIN:STANDARD
TZOFFSETFROM:+0200
TZOFFSETTO:+0100
TZNAME:CET
DTSTART:20271031T010000
END:STANDARD
END:VTIMEZONE
BEGIN:VEVENT
DTSTART;TZID=Europe/Budapest:20260417T183000
DTEND;TZID=Europe/Budapest:20260417T203000
DTSTAMP:20260425T214719
CREATED:20260318T142908Z
LAST-MODIFIED:20260318T142908Z
UID:873-1776450600-1776457800@www.tandemkonyvesbolt.hu
SUMMARY:Tandem könyvvilága Auréliával - Tandem könyvklub
DESCRIPTION:ÚJ KÖNYVKLUB INDUL A TANDEM KÖNYV ÉS KÁVÉBAN! \n\n Első alkalom: április 17. Időpont: 18:30–20:30 (érkezés 18:00–18:30 között) Az est vezetője: Aurélia – tréner\, életvezetési tanácsadó\, moderátor Részvételi díj: 6 000 Ft (a helyszínen\, készpénzben fizetendő) Helyszín: Tandem Könyv és Kávé közösségi tere – Bécsi út 135.\n A részvétel regisztrációhoz kötött:\nÁprilis 17: https://form.typeform.com/to/N8iTwbfCMájus 22: https://form.typeform.com/to/KNULeKVPJúnius 19: https://form.typeform.com/to/aMQhJjKdJúlius 24: https://form.typeform.com/to/XRvCoOcyAugusztus 28: https://form.typeform.com/to/FdW11gFw\n\n Miért lesz ez a könyvklub különleges?\nItt nem egy közös könyvet olvas mindenki\, minden alkalommal egy megadott témára hozunk magunkkal könyvet. Ha például 12-en vagyunk\, akkor 12 különböző könyvvel találkozunk egy este alatt.\n\n Az első alkalom témája:A legkedvesebb könyved\nMesélj majd arról:– hogyan és mikor talált rád ez a könyv– milyen érzéseket vált ki belőled– miért ajánlod másoknak\nHa szeretnéd\, akár egy rövid részletet is felolvashatsz belőle!\n\nAurélia a beszélgetés során a könyveket arra is használja\, hogy segítsen ránézni arra\, hogyan lehet az életünk szebb\, jobb és élhetőbb. Ez a pozitív szemlélet adja ennek a könyvklubnak a különleges hangulatát.\n\n Érdemes kicsit éhesen érkezni\, és kipróbálni a hely pompás\, házias kínálatát. A fogyasztást a rendezvény elején vagy végén mindenki maga rendezi. Ha csak egy kávét vagy üdítőt innál\, az is teljesen rendben van.\n\n Hölgyeket és urakat egyaránt szeretettel várunk\, minden korosztályból!\n\nGyere\, és élvezd velünk a közös estét\, a könyvek inspiráló világát és egy értékes\, nyitott közösség energiáját!\nKözösségben lenni felemelő!\n\nAddig is sok szép könyvélményt kívánunk mindenkinek! 
URL:https://www.tandemkonyvesbolt.hu/esemenyek/tandem-konyvvilaga-aureliaval-tandem-konyvklub/
LOCATION:Tandem könyvesbolt és kávézó\, Nagykovácsi\, 2094 Nagykovácsi
CATEGORIES:könyvklub,olvasóklub
ATTACH;FMTTYPE=image/jpeg:https://www.tandemkonyvesbolt.hu/wp-content/uploads/2026/03/Brown-and-Grey-Minimalist-Quote-Mockup-Instagram-Post.jpg
END:VEVENT
BEGIN:VEVENT
DTSTART;TZID=Europe/Budapest:20260416T160000
DTEND;TZID=Europe/Budapest:20260416T173000
DTSTAMP:20260425T214719
CREATED:20260408T103716Z
LAST-MODIFIED:20260408T103826Z
UID:918-1776355200-1776360600@www.tandemkonyvesbolt.hu
SUMMARY:PETŐFI SÁNDOR\, a lázadó költő - Író-olvasó klub gyerekeknek a Tandemben
DESCRIPTION:Ez nem kötelező olvasmány. Ez élmény. \n\nMitől olyan menő Petőfi?\nMivel küzd valójában Toldi Miklós?\nHogyan lehet ellopni az emberek idejét – és miért különleges Momo?\nMiről szól valójában a Bambi? Mit mesél veszteségről\, elmúlásról és újjászületésről?\nMitől olyan emberi Tündér Lala? És lehet-e rajta segíteni?\n\n🤔 Neked is nehéz közel kerülni a kötelező olvasmányokhoz?\n💭 Szeretnéd végre érezni\, hogy mitől élnek ezek a történetek?\n🎨 Kipróbálnád magad alkotóként is – írásban\, játékban\, zenében? \n🌟 Gyere el az író-olvasó ifi klubba!\n📅 Kéthetente csütörtökön a Tandem Könyv és Kávéban (1034 Budapest\, Bécsi út 135.) \n\n90 perc közös gondolkodás\, élmények\, beszélgetések\nDrámajátékok\nKözös és egyéni alkotás\nKreatív feldolgozás\nInspiráló\, otthonos\, szupercuki közeg\n\n👧👦 Korosztály: 9–12 év\n👥 Kiscsoportos foglalkozás \n🎬 Első alkalom:\n📅 2026. április 16.\n🕓 16:00–17:30\n🔥 Téma: PETŐFI – a lázadó költő\n\nMilyen gyerek volt?\nMin veszekedett az apukájával?\nMiért nem bírták a tanárai?\nHány kilométert gyalogolt?\nHogyan hódította meg az embereket… és a nőket?\nMitől menő még ma is?\nMiről szól valójában a János vitéz?\n\n🎤 A foglalkozást tartja:Khaled-Abdo Szaida\n(színházi alkotó\, drámapedagógus\, kreatív írás tanár\, végzős komplex művészeti terapeuta hallgató) \nAz esemény díja 6000 Ft/alkalom\, valamint regisztrációhoz kötött\, kérjük az alábbi linken jelezzétek részvételi szándékotokat: https://form.typeform.com/to/QF8dDECk)
URL:https://www.tandemkonyvesbolt.hu/esemenyek/petofi-sandor-a-lazado-kolto-iro-olvaso-klub-gyerekeknek-a-tandemben/
LOCATION:Tandem könyvesbolt és kávézó\, Nagykovácsi\, 2094 Nagykovácsi
CATEGORIES:ifjúsági,könyvklub,olvasóklub,workshop
ATTACH;FMTTYPE=image/jpeg:https://www.tandemkonyvesbolt.hu/wp-content/uploads/2026/04/Khaled-Abdo-Szaida-szinhazi-alkoto-dramapedagogus-kreativ-iras-tanar-vegzos-komplex-muveszeti-terapeuta-hallgato.jpg
END:VEVENT
END:VCALENDAR