BEGIN:VCALENDAR
VERSION:2.0
PRODID:-// - ECPv6.15.20//NONSGML v1.0//EN
CALSCALE:GREGORIAN
METHOD:PUBLISH
X-ORIGINAL-URL:https://www.tandemkonyvesbolt.hu
X-WR-CALDESC:Események 
REFRESH-INTERVAL;VALUE=DURATION:PT1H
X-Robots-Tag:noindex
X-PUBLISHED-TTL:PT1H
BEGIN:VTIMEZONE
TZID:Europe/Budapest
BEGIN:DAYLIGHT
TZOFFSETFROM:+0100
TZOFFSETTO:+0200
TZNAME:CEST
DTSTART:20250330T010000
END:DAYLIGHT
BEGIN:STANDARD
TZOFFSETFROM:+0200
TZOFFSETTO:+0100
TZNAME:CET
DTSTART:20251026T010000
END:STANDARD
BEGIN:DAYLIGHT
TZOFFSETFROM:+0100
TZOFFSETTO:+0200
TZNAME:CEST
DTSTART:20260329T010000
END:DAYLIGHT
BEGIN:STANDARD
TZOFFSETFROM:+0200
TZOFFSETTO:+0100
TZNAME:CET
DTSTART:20261025T010000
END:STANDARD
BEGIN:DAYLIGHT
TZOFFSETFROM:+0100
TZOFFSETTO:+0200
TZNAME:CEST
DTSTART:20270328T010000
END:DAYLIGHT
BEGIN:STANDARD
TZOFFSETFROM:+0200
TZOFFSETTO:+0100
TZNAME:CET
DTSTART:20271031T010000
END:STANDARD
END:VTIMEZONE
BEGIN:VEVENT
DTSTART;TZID=Europe/Budapest:20260430T190000
DTEND;TZID=Europe/Budapest:20260430T190000
DTSTAMP:20260425T173601
CREATED:20260318T143420Z
LAST-MODIFIED:20260408T103007Z
UID:876-1777575600-1777575600@www.tandemkonyvesbolt.hu
SUMMARY:Önként és Dalolva Társulat születésnapi koncertje a Tandemben
DESCRIPTION:Az Önként és Dalolva Társulat egy több mint 15 éve működő akusztikus formáció\, akiknek műsorában az elmúlt évtizedek legszebb magyar versmegzenésítései és örökzöld dalai kapnak helyet – időnként egy-egy külföldi klasszikus átdolgozásával kiegészítve. \nKoncertjeik bensőséges hangulatú\, közel ülős\, figyelmes együttlétek\, ahol a dalok és szövegek igazán megszólalhatnak.Korábban egy budapesti könyveskávézóban tartottak rendszeres esteket – most pedig a Tandemben hallhatjátok őket 2026. árilis 30-án\, 19:00-tól! \nEgy este\, ahol a zene csendesen körülölel! \nAz esemény regisztrációhoz kötött: https://form.typeform.com/to/wAzai0Vm
URL:https://www.tandemkonyvesbolt.hu/esemenyek/onkent-es-dalolva-tarsulat-koncert/
LOCATION:Tandem könyvesbolt és kávézó\, Nagykovácsi\, 2094 Nagykovácsi
CATEGORIES:zenés est
ATTACH;FMTTYPE=image/jpeg:https://www.tandemkonyvesbolt.hu/wp-content/uploads/2026/03/669014861_1555268579935153_3847632994644028687_n.jpg
END:VEVENT
END:VCALENDAR