BEGIN:VCALENDAR
VERSION:2.0
PRODID:-// - ECPv6.15.20//NONSGML v1.0//EN
CALSCALE:GREGORIAN
METHOD:PUBLISH
X-ORIGINAL-URL:https://www.tandemkonyvesbolt.hu
X-WR-CALDESC:Események 
REFRESH-INTERVAL;VALUE=DURATION:PT1H
X-Robots-Tag:noindex
X-PUBLISHED-TTL:PT1H
BEGIN:VTIMEZONE
TZID:Europe/Budapest
BEGIN:DAYLIGHT
TZOFFSETFROM:+0100
TZOFFSETTO:+0200
TZNAME:CEST
DTSTART:20250330T010000
END:DAYLIGHT
BEGIN:STANDARD
TZOFFSETFROM:+0200
TZOFFSETTO:+0100
TZNAME:CET
DTSTART:20251026T010000
END:STANDARD
BEGIN:DAYLIGHT
TZOFFSETFROM:+0100
TZOFFSETTO:+0200
TZNAME:CEST
DTSTART:20260329T010000
END:DAYLIGHT
BEGIN:STANDARD
TZOFFSETFROM:+0200
TZOFFSETTO:+0100
TZNAME:CET
DTSTART:20261025T010000
END:STANDARD
BEGIN:DAYLIGHT
TZOFFSETFROM:+0100
TZOFFSETTO:+0200
TZNAME:CEST
DTSTART:20270328T010000
END:DAYLIGHT
BEGIN:STANDARD
TZOFFSETFROM:+0200
TZOFFSETTO:+0100
TZNAME:CET
DTSTART:20271031T010000
END:STANDARD
END:VTIMEZONE
BEGIN:VEVENT
DTSTART;TZID=Europe/Budapest:20260115T200000
DTEND;TZID=Europe/Budapest:20260115T230000
DTSTAMP:20260425T210014
CREATED:20260114T111929Z
LAST-MODIFIED:20260114T174145Z
UID:678-1768507200-1768518000@www.tandemkonyvesbolt.hu
SUMMARY:Tandem Olvasóklub - Márai Sándor: Béke Ithakában
DESCRIPTION:„Inkább csak elmondom\, amit tudok. Lassan mondom el\, ahogy ő beszélt néha\, amikor – télen – leült velünk a háromlábu parazsos vaskosár mellé és mesélt. Néha még hallom a hangját. Olyan hangja volt\, mint a tengernek.”\n\n\n\nA Tandem Olvasóklub decemberi olvasmánya Márai Sándor Béke Ithakában című különös regénye. Különös azért\, mert lényegében három\, egymásra reflektáló monológból áll. Láttunk már ilyet tőle\, ez most talán azért lesz különleges\, mert Odüsszeusz (Ulyssess)\, Pénelopé és Télegonosz gondolatait adják vissza. Mindeközben a kötet „talán az isteni világ végéről és az emberi világ igazi kezdetéről szól”. (moly.hu)\n\n\n\nJanuárban beszélgetünk majd róla.
URL:https://www.tandemkonyvesbolt.hu/esemenyek/tandem-olvasoklub-marai-beke-ithakaban/
LOCATION:Tandem könyvesbolt és kávézó\, Nagykovácsi\, 2094 Nagykovácsi
ATTACH;FMTTYPE=image/jpeg:https://www.tandemkonyvesbolt.hu/wp-content/uploads/2026/01/616052944_1458326729629982_218529847788608489_n.jpg
END:VEVENT
BEGIN:VEVENT
DTSTART;TZID=Europe/Budapest:20260116T210000
DTEND;TZID=Europe/Budapest:20260116T233000
DTSTAMP:20260425T210014
CREATED:20260108T235611Z
LAST-MODIFIED:20260114T111604Z
UID:643-1768597200-1768606200@www.tandemkonyvesbolt.hu
SUMMARY:Nagykovácsi Mozi: A jó főnök
DESCRIPTION:A Blancos Básculas mérleggyárban mindennek egyensúlyban kell lennie – legalábbis látszólag.Blanco\, a köztiszteletben álló és kedvelt gyárigazgató mindent megtesz azért\, hogy cége elnyerje a rangos kiválósági díjat egy közelgő ellenőrzés során.\nÁm amikor feltűnik egy elbocsátott alkalmazott\, José\, és nyilvánosan igazságot követel magának\, az addig gondosan felépített rend meginog. Egyetlen ember elszánt fellépése elég ahhoz\, hogy kibillenjen a mérleg – és felszínre kerüljenek azok a kérdések\, amelyekről egy munkahelyen ritkán beszélünk: hatalomról\, lojalitásról és felelősségről.\nIronikus\, feszültséggel teli és gondolatébresztő történet arról\, mi történik\, ha a „jó főnök” imázsa repedezni kezd.
URL:https://www.tandemkonyvesbolt.hu/esemenyek/nagykovacsi-mozi-a-jo-fonok/
LOCATION:Tandem könyvesbolt és kávézó\, Nagykovácsi\, 2094 Nagykovácsi
ATTACH;FMTTYPE=image/jpeg:https://www.tandemkonyvesbolt.hu/wp-content/uploads/2026/01/607653246_122274508484231615_3866661505769396770_n.jpg
END:VEVENT
BEGIN:VEVENT
DTSTART;TZID=Europe/Budapest:20260117T160000
DTEND;TZID=Europe/Budapest:20260117T190000
DTSTAMP:20260425T210014
CREATED:20260109T000127Z
LAST-MODIFIED:20260114T111307Z
UID:646-1768665600-1768676400@www.tandemkonyvesbolt.hu
SUMMARY:Mozi Matiné: Sárkány és Papucs
DESCRIPTION:A ködös Albionban minden a lovagi tornák körül forog\, miközben a gyönyörű Ginevra királyné egyre inkább háttérbe szorul Arthur király mellett. Hogy visszaszerezze férje figyelmét\, Merlin segítségével szerelmi bájital készül – ám a varázslat nem egészen oda kerül\, ahová kellene.\n\nA csodaszert ugyanis Lancelot\, a tornák győztese kapja meg\, és ettől kezdve fékezhetetlen szerelemmel ég a királyné iránt. Az udvar rendje felborul\, a megoldás pedig egy igazán lovagias küldetés: Lancelotnak vissza kell szereznie Ginevra elveszett papucsát Góliáttól\, a nyugdíjazott sárkánytól.\nMesés\, játékos történet varázslattal\, humorral és lovagi hőstettekkel – ahol semmi sem úgy alakul\, ahogy azt tervezték. 
URL:https://www.tandemkonyvesbolt.hu/esemenyek/mozi-matine-sarkany-es-papucs/
LOCATION:Tandem könyvesbolt és kávézó\, Nagykovácsi\, 2094 Nagykovácsi
ATTACH;FMTTYPE=image/jpeg:https://www.tandemkonyvesbolt.hu/wp-content/uploads/2026/01/605550696_122274702722231615_9096602504676767864_n.jpg
END:VEVENT
END:VCALENDAR